BEGIN:VCALENDAR
VERSION:2.0
PRODID:-//Redwood City Improvement Association - ECPv6.15.17.1//NONSGML v1.0//EN
CALSCALE:GREGORIAN
METHOD:PUBLISH
X-WR-CALNAME:Redwood City Improvement Association
X-ORIGINAL-URL:https://visitrwc.org
X-WR-CALDESC:Events for Redwood City Improvement Association
REFRESH-INTERVAL;VALUE=DURATION:PT1H
X-Robots-Tag:noindex
X-PUBLISHED-TTL:PT1H
BEGIN:VTIMEZONE
TZID:America/Los_Angeles
BEGIN:DAYLIGHT
TZOFFSETFROM:-0800
TZOFFSETTO:-0700
TZNAME:PDT
DTSTART:20240310T100000
END:DAYLIGHT
BEGIN:STANDARD
TZOFFSETFROM:-0700
TZOFFSETTO:-0800
TZNAME:PST
DTSTART:20241103T090000
END:STANDARD
BEGIN:DAYLIGHT
TZOFFSETFROM:-0800
TZOFFSETTO:-0700
TZNAME:PDT
DTSTART:20250309T100000
END:DAYLIGHT
BEGIN:STANDARD
TZOFFSETFROM:-0700
TZOFFSETTO:-0800
TZNAME:PST
DTSTART:20251102T090000
END:STANDARD
BEGIN:DAYLIGHT
TZOFFSETFROM:-0800
TZOFFSETTO:-0700
TZNAME:PDT
DTSTART:20260308T100000
END:DAYLIGHT
BEGIN:STANDARD
TZOFFSETFROM:-0700
TZOFFSETTO:-0800
TZNAME:PST
DTSTART:20261101T090000
END:STANDARD
BEGIN:DAYLIGHT
TZOFFSETFROM:-0800
TZOFFSETTO:-0700
TZNAME:PDT
DTSTART:20270314T100000
END:DAYLIGHT
BEGIN:STANDARD
TZOFFSETFROM:-0700
TZOFFSETTO:-0800
TZNAME:PST
DTSTART:20271107T090000
END:STANDARD
END:VTIMEZONE
BEGIN:VEVENT
DTSTART;VALUE=DATE:20251107
DTEND;VALUE=DATE:20260105
DTSTAMP:20260423T222727
CREATED:20251103T205129Z
LAST-MODIFIED:20251103T210443Z
UID:5738-1762473600-1767571199@visitrwc.org
SUMMARY:Ancestral Home
DESCRIPTION:
URL:https://visitrwc.org/event/ancestral-home-dec-2025/
LOCATION:Courthouse Square\, 2208 Broadway\, Redwood City\, 94063\, United States
CATEGORIES:Event
END:VEVENT
BEGIN:VEVENT
DTSTART;VALUE=DATE:20260110
DTEND;VALUE=DATE:20260223
DTSTAMP:20260423T222727
CREATED:20260105T230236Z
LAST-MODIFIED:20260113T211941Z
UID:5792-1768003200-1771804799@visitrwc.org
SUMMARY:Lullaby
DESCRIPTION:
URL:https://visitrwc.org/event/lullaby-jan2026/
LOCATION:Courthouse Square\, 2208 Broadway\, Redwood City\, 94063\, United States
CATEGORIES:Event
END:VEVENT
END:VCALENDAR