BEGIN:VCALENDAR
VERSION:2.0
PRODID:-//Redwood City Improvement Association - ECPv6.15.17.1//NONSGML v1.0//EN
CALSCALE:GREGORIAN
METHOD:PUBLISH
X-WR-CALNAME:Redwood City Improvement Association
X-ORIGINAL-URL:https://visitrwc.org
X-WR-CALDESC:Events for Redwood City Improvement Association
REFRESH-INTERVAL;VALUE=DURATION:PT1H
X-Robots-Tag:noindex
X-PUBLISHED-TTL:PT1H
BEGIN:VTIMEZONE
TZID:America/Los_Angeles
BEGIN:DAYLIGHT
TZOFFSETFROM:-0800
TZOFFSETTO:-0700
TZNAME:PDT
DTSTART:20180311T100000
END:DAYLIGHT
BEGIN:STANDARD
TZOFFSETFROM:-0700
TZOFFSETTO:-0800
TZNAME:PST
DTSTART:20181104T090000
END:STANDARD
BEGIN:DAYLIGHT
TZOFFSETFROM:-0800
TZOFFSETTO:-0700
TZNAME:PDT
DTSTART:20190310T100000
END:DAYLIGHT
BEGIN:STANDARD
TZOFFSETFROM:-0700
TZOFFSETTO:-0800
TZNAME:PST
DTSTART:20191103T090000
END:STANDARD
BEGIN:DAYLIGHT
TZOFFSETFROM:-0800
TZOFFSETTO:-0700
TZNAME:PDT
DTSTART:20200308T100000
END:DAYLIGHT
BEGIN:STANDARD
TZOFFSETFROM:-0700
TZOFFSETTO:-0800
TZNAME:PST
DTSTART:20201101T090000
END:STANDARD
END:VTIMEZONE
BEGIN:VEVENT
DTSTART;TZID=America/Los_Angeles:20190531T180000
DTEND;TZID=America/Los_Angeles:20190531T200000
DTSTAMP:20260425T191742
CREATED:20190531T170356Z
LAST-MODIFIED:20190531T172701Z
UID:2949-1559325600-1559332800@visitrwc.org
SUMMARY:Music on the Square
DESCRIPTION:
URL:https://visitrwc.org/event/music-on-the-square-053119/
LOCATION:Redwood City Courthouse Square\, 2200 Broadway\, Redwood City\, CA\, 94063\, United States
CATEGORIES:Event,Music
END:VEVENT
END:VCALENDAR